Workbook
Name ___xlnm.Print_Area_2: #REF!
Name ___xlnm.Print_Area_2: #REF!
Name ___xlnm.Print_Titles_2: #REF!
Name ___xlnm.Print_Titles_2: #REF!
Name ___xlnm.Print_Titles_3: #REF!
Name ___xlnm.Print_Titles_3: #REF!
Name __Anonymous_Sheet_DB__0: #REF!
Name __xlnm.Print_Area_2: #REF!
Name __xlnm.Print_Area_3: #REF!
Name __xlnm.Print_Area_3_1: #REF!
Name __xlnm.Print_Titles_2: #REF!
Name __xlnm.Print_Titles_3: #REF!
Name _R10P: #REF!
Name _R10R: #REF!
Name _R11P: #REF!
Name _R11R: #REF!
Name _R12P: #REF!
Name _R12R: #REF!
Name _R13P: #REF!
Name _R13R: #REF!
Name _R14P: #REF!
Name _R14R: #REF!
Name _R15P: #REF!
Name _R15R: #REF!
Name _R16P: #REF!
Name _R16R: #REF!
Name _R17P: #REF!
Name _R17R: #REF!
Name _R18P: #REF!
Name _R18R: #REF!
Name _R19P: #REF!
Name _R19R: #REF!
Name _R1P: #REF!
Name _R1R: #REF!
Name _R20P: #REF!
Name _R20R: #REF!
Name _R21P: #REF!
Name _R21R: #REF!
Name _R22P: #REF!
Name _R22R: #REF!
Name _R23P: #REF!
Name _R23R: #REF!
Name _R24P: #REF!
Name _R24R: #REF!
Name _R2P: #REF!
Name _R2R: #REF!
Name _R3P: #REF!
Name _R3R: #REF!
Name _R4P: #REF!
Name _R4R: #REF!
Name _R5P: #REF!
Name _R5R: #REF!
Name _R6P: #REF!
Name _R6R: #REF!
Name _R7P: #REF!
Name _R7R: #REF!
Name _R8P: #REF!
Name _R8R: #REF!
Name _R9P: #REF!
Name _R9R: #REF!

Sheet Planilha de Serviços
C1: PLANILHA DE SERVIÇOS - CONSTRUÇÃO CIVIL
A2: Município: | B2: CIDADE GAUCHA
A3: Projeto: | B3: REFORMA NOVA CAMARA DOS VEREADORES | D3: BDI 1 | E3: 0.247
A4: M2 | B4: ÁREA A REFORMAR 417,37 M² | D4: BDI 2 | E4: 0.1924
A5: Tabela de referência: SINAPI de 01/2026 - sem desoneração | I5: 46093
A6: CÓDIGO | B6: ORIGEM | C6: DESCRIÇÃO DOS SERVIÇOS | D6: UD | E6: ORÇAMENTO
E7: QUANT | F7: UNIT | G7: PM ( R$ ) | H7: PM C/ BDI ( R$ ) | I7: ( R$ ) - PM TOTAIS | L7: 0.84998
C8: NOVA CAMARA DOS VEREADORES | I8: =SUM(I10:I125) -> 343508.72
A10: 1 | C10: MURO/ RAMPA | I10: =(H11+H17+H34) -> 171553.92
A11: 1.1 | C11: SERVIÇOS PRELIMINARES E ADMINISTRAÇÃO DA OBRA | H11: =SUM(H12:H16) -> 11218.667
A12: 103689 | B12: SINAPI | C12: FORNECIMENTO E INSTALAÇÃO DE PLACA DE OBRA COM CHAPA GALVANIZADA E ESTRUTURA DE MADEIRA. AF_03/2022_PS | D12: M2 | E12: 3.6 | F12: 476.51 | G12: =(F12*(1+$E$3)) -> 594.20797 | H12: =(E12*G12) -> 2139.1487
A13: 104789 | B13: SINAPI | C13: DEMOLIÇÃO DE PISO DE CONCRETO SIMPLES, DE FORMA MANUAL, SEM REAPROVEITAMENTO. AF_09/2023 | D13: M3 | E13: 0.17 | F13: 292.76 | G13: =(F13*(1+$E$3)) -> 365.07172 | H13: =(E13*G13) -> 62.062192
A14: 99059 | B14: SINAPI | C14: LOCACAO CONVENCIONAL DE OBRA, UTILIZANDO GABARITO DE TÁBUAS CORRIDAS PONTALETADAS A CADA 2,00M - 2 UTILIZAÇÕES. AF_10/2018 | D14: M | E14: 36.72 | F14: 80.97 | G14: =(F14*(1+$E$3)) -> 100.96959 | H14: =(E14*G14) -> 3707.6033
A15: 010776 | B15: SINAPI-I | C15: LOCACAO DE CONTAINER 2,30 X 6,00 M, ALT. 2,50 M, PARA ESCRITORIO, SEM DIVISORIAS INTERNAS E SEM SANITARIO (NAO INCLUI MOBILIZACAO/DESMOBILIZACAO) | D15: MES | E15: 3 | F15: 742.18 | G15: =(F15*(1+$E$4)) -> 884.97543 | H15: =(E15*G15) -> 2654.9263
A16: 106122 | B16: SINAPI | C16: REMOÇÃO DE ENTULHO CLASSE A (ALVENARIA, CONCRETO, ARGAMASSAS E CERÂMICOS) POR DUTO DE ENTULHO E ACONDICIONAMENTO FINAL EM CAÇAMBA ESTACIONÁRIA. EXCLUSO FRETE. AF_09/2025 | D16: M3 | E16: 3 | F16: 742.18 | G16: =(F16*(1+$E$4)) -> 884.97543 | H16: =(E16*G16) -> 2654.9263
A17: 1.2 | C17: FUNDACOES MURO/ RAMPA | H17: =SUM(H19:H33) -> 43842.841
A18: 1.2.1 | C18: ESTACAS
A19: 100896 | B19: SINAPI | C19: ESTACA ESCAVADA MECANICAMENTE, SEM FLUIDO ESTABILIZANTE, COM 25CM DE DIÂMETRO, CONCRETO LANÇADO POR CAMINHÃO BETONEIRA (EXCLUSIVE MOBILIZAÇÃO E DESMOBILIZAÇÃO). AF_01/2020 | D19: M | E19: 139 | F19: 62.34 | G19: =(F19*(1+$E$3)) -> 77.73798 | H19: =(E19*G19) -> 10805.579
A20: 95577 | B20: SINAPI | C20: MONTAGEM DE ARMADURA DE ESTACAS, DIÂMETRO = 10,0 MM. AF_09/2021_PS | D20: KG | E20: 272.71 | F20: 10.48 | G20: =(F20*(1+$E$3)) -> 13.06856 | H20: =(E20*G20) -> 3563.927
A21: 95592 | B21: SINAPI | C21: MONTAGEM DE ARMADURA TRANVERSAL DE ESTACAS DE SEÇÃO RETANGULAR, DIÂMETRO = 5,0 MM. AF_09/2021_PS | D21: KG | E21: 44.84 | F21: 18.41 | G21: =(F21*(1+$E$3)) -> 22.95727 | H21: =(E21*G21) -> 1029.404
A22: 1.2.2 | C22: BLOCOS
A23: 93358 | B23: SINAPI | C23: ESCAVAÇÃO MANUAL DE VALA. AF_09/2024 | D23: M3 | E23: 3.58 | F23: 124.25 | G23: =(F23*(1+$E$3)) -> 154.93975 | H23: =(E23*G23) -> 554.6843
A24: 104928 | B24: SINAPI | C24: FABRICAÇÃO, MONTAGEM E DESMONTAGEM DE FÔRMA PARA SAPATA CORRIDA, EM CHAPA DE MADEIRA COMPENSADA RESINADA, E=17 MM, 2 UTILIZAÇÕES. AF_01/2024 | D24: M2 | E24: 27.3 | F24: 173.19 | G24: =(F24*(1+$E$3)) -> 215.96793 | H24: =(E24*G24) -> 5895.9245
A25: 104918 | B25: SINAPI | C25: ARMAÇÃO DE SAPATA ISOLADA, VIGA BALDRAME E SAPATA CORRIDA UTILIZANDO AÇO CA-50 DE 8 MM - MONTAGEM. AF_01/2024 | D25: KG | E25: 221.42 | F25: 15.37 | G25: =(F25*(1+$E$3)) -> 19.16639 | H25: =(E25*G25) -> 4243.8221
A26: 94965 | B26: SINAPI | C26: CONCRETO FCK = 25MPA, TRAÇO 1:2,3:2,7 (EM MASSA SECA DE CIMENTO/ AREIA MÉDIA/ BRITA 1) - PREPARO MECÂNICO COM BETONEIRA 400 L. AF_05/2021 | D26: M3 | E26: 3.58 | F26: 545.29 | G26: =(F26*(1+$E$3)) -> 679.97663 | H26: =(E26*G26) -> 2434.3163
A27: 1.2.3 | C27: VIGAS BALDRAMES E VIGAS DE TRANSIÇÃO
A28: 93358 | B28: SINAPI | C28: ESCAVAÇÃO MANUAL DE VALA. AF_09/2024 | D28: M3 | E28: 3.16 | F28: 124.25 | G28: =(F28*(1+$E$3)) -> 154.93975 | H28: =(E28*G28) -> 489.60961
A29: 96536 | B29: SINAPI | C29: FABRICAÇÃO, MONTAGEM E DESMONTAGEM DE FÔRMA PARA VIGA BALDRAME, EM MADEIRA SERRADA, E=25 MM, 4 UTILIZAÇÕES. AF_01/2024 | D29: M2 | E29: 37.64 | F29: 82.18 | G29: =(F29*(1+$E$3)) -> 102.47846 | H29: =(E29*G29) -> 3857.2892
A30: 104917 | B30: SINAPI | C30: ARMAÇÃO DE SAPATA ISOLADA, VIGA BALDRAME E SAPATA CORRIDA UTILIZANDO AÇO CA-50 DE 6,3 MM - MONTAGEM. AF_01/2024 | D30: KG | E30: 77.51 | F30: 17.23 | G30: =(F30*(1+$E$3)) -> 21.48581 | H30: =(E30*G30) -> 1665.3651
A31: 104919 | B31: SINAPI | C31: ARMAÇÃO DE SAPATA ISOLADA, VIGA BALDRAME E SAPATA CORRIDA UTILIZANDO AÇO CA-50 DE 10 MM - MONTAGEM. AF_01/2024 | D31: KG | E31: 261.77 | F31: 13.42 | G31: =(F31*(1+$E$3)) -> 16.73474 | H31: =(E31*G31) -> 4380.6529
A32: 94965 | B32: SINAPI | C32: CONCRETO FCK = 25MPA, TRAÇO 1:2,3:2,7 (EM MASSA SECA DE CIMENTO/ AREIA MÉDIA/ BRITA 1) - PREPARO MECÂNICO COM BETONEIRA 400 L. AF_05/2021 | D32: M3 | E32: 3.58 | F32: 545.29 | G32: =(F32*(1+$E$3)) -> 679.97663 | H32: =(E32*G32) -> 2434.3163
A33: 98557 | B33: SINAPI | C33: IMPERMEABILIZAÇÃO DE SUPERFÍCIE COM EMULSÃO ASFÁLTICA, 2 DEMÃOS. AF_09/2023 | D33: M2 | E33: 50.14 | F33: 49.62 | G33: =(F33*(1+$E$3)) -> 61.87614 | H33: =ROUND(E33*F33,2) -> 2487.95
A34: 1.3 | C34: SUPERESTRUTURA | H34: =SUM(H36:H40,H42:H46,H48:H52,H54:H56,H58) -> 116492.41
A35: 1.3.1 | C35: PILARES
A36: 92269 | B36: SINAPI | C36: FABRICAÇÃO DE FÔRMA PARA PILARES E ESTRUTURAS SIMILARES, EM MADEIRA SERRADA, E=25 MM. AF_09/2020 | D36: M2 | E36: 57.34 | F36: 130.09 | G36: =(F36*(1+$E$3)) -> 162.22223 | H36: =(E36*G36) -> 9301.8227
A37: 92760 | B37: SINAPI | C37: ARMAÇÃO DE PILAR OU VIGA DE ESTRUTURA CONVENCIONAL DE CONCRETO ARMADO UTILIZANDO AÇO CA-50 DE 6,3 MM - MONTAGEM. AF_06/2022 | D37: KG | E37: 116.31 | F37: 14 | G37: =(F37*(1+$E$3)) -> 17.458 | H37: =(E37*G37) -> 2030.54
A38: 92762 | B38: SINAPI | C38: ARMAÇÃO DE PILAR OU VIGA DE ESTRUTURA CONVENCIONAL DE CONCRETO ARMADO UTILIZANDO AÇO CA-50 DE 10,0 MM - MONTAGEM. AF_06/2022 | D38: KG | E38: 116.73 | F38: 10.97 | G38: =(F38*(1+$E$3)) -> 13.67959 | H38: =(E38*G38) -> 1596.8185
A39: 92763 | B39: SINAPI | C39: ARMAÇÃO DE PILAR OU VIGA DE ESTRUTURA CONVENCIONAL DE CONCRETO ARMADO UTILIZANDO AÇO CA-50 DE 12,5 MM - MONTAGEM. AF_06/2022 | D39: KG | E39: 364.32 | F39: 9.06 | G39: =(F39*(1+$E$3)) -> 11.29782 | H39: =(E39*G39) -> 4116.0218
A40: 94966 | B40: SINAPI | C40: CONCRETO FCK = 30MPA, TRAÇO 1:2,1:2,5 (EM MASSA SECA DE CIMENTO/ AREIA MÉDIA/ BRITA 1) - PREPARO MECÂNICO COM BETONEIRA 400 L. AF_05/2021 | D40: M3 | E40: 3.88 | F40: 560.28 | G40: =(F40*(1+$E$3)) -> 698.66916 | H40: =(E40*G40) -> 2710.8363
A41: 1.3.2 | C41: VIGA DE RESPALDO E VIGAS TRANSVERSAIS
...

Sheet Cronograma PAM
B1: PAM | C1: SECRETARIA DE ESTADO DAS CIDADES - SECID | G1: CONSTRUÇÃO CIVIL
B2: Município: | C2: ='Planilha de Serviços'!B2 -> CIDADE GAUCHA | F2: SAM | H2: Edital no Município | J2: Procedimento prévio | L2: Início previsto da Obra | N2: Convênio | P2: Repasse do Concedente | T2: =IF(S4=0,0,S2/S4) -> 0
B3: Projeto: | C3: ='Planilha de Serviços'!B3 -> REFORMA NOVA CAMARA DOS VEREADORES | F3: LOTE nº | H3: Data | I3: =TODAY() -> 46274 | J3: Dias | K3: =80-10 -> 70 | L3: Data | M3: =I3+K3+10 -> 46354 | N3: nº | P3: Contrapartida do Proponente | S3: =S29-S2 -> 343508.72 | T3: =IF(S3=0,0,1-T2) -> 1
B4: Quantidade: | C4: ='Planilha de Serviços'!B4 -> ÁREA A REFORMAR 417,37 M² | E4: CRONOGRAMA FÍSICO FINANCEIRO | P4: Valor Total | S4: =SUM(S2:S3) -> 343508.72 | T4: =SUM(T2:T3) -> 1 | W4: Controle
B5: GRUPO | C5: SERVIÇOS | E5: N | F5: PARCELAS (%) | S5: TOTAL | T5: % S/ | W5: =IF(S4=S61,"OK","erro") -> #REF!
B6: ITEM | D6: =IF(E6<6,"Deve ser no mínimo 6 meses =","ok") -> ok | E6: 10 | F6: =IF(E6=0,0,1) -> 1 | G6: =IF($E$6<2,0,2) -> 2 | H6: =IF($E$6<3,0,3) -> 3 | I6: =IF($E$6<4,0,4) -> 4 | J6: =IF($E$6<5,0,5) -> 5 | K6: =IF($E$6<6,0,6) -> 6 | L6: =IF($E$6<7,0,7) -> 7 | M6: =IF($E$6<8,0,8) -> 8 | N6: =IF($E$6<9,0,9) -> 9 | O6: =IF($E$6<10,0,10) -> 10 | P6: =IF($E$6<11,0,11) -> 0 | Q6: =IF($E$6<12,0,12) -> 0 | S6: ITEM (R$) | T6: TOTAL
C7: Data Início | F7: =IF(E6=0,0,M3) -> 46354 | G7: =IF(G6=0,0,F8+1) -> 46385 | H7: =IF(H6=0,0,G8+1) -> 46416 | I7: =IF(I6=0,0,H8+1) -> 46447 | J7: =IF(J6=0,0,I8+1) -> 46478 | K7: =IF(K6=0,0,J8+1) -> 46509 | L7: =IF(L6=0,0,K8+1) -> 46540 | M7: =IF(M6=0,0,L8+1) -> 46571 | N7: =IF(N6=0,0,M8+1) -> 46602 | ... Q7: =IF(Q6=0,0,P8+1) -> 0
C8: Data Fim | F8: =IF(E6=0,0,F7+30) -> 46384 | G8: =IF(G6=0,0,G7+30) -> 46415 | H8: =IF(H6=0,0,H7+30) -> 46446 | I8: =IF(I6=0,0,I7+30) -> 46477 | J8: =IF(J6=0,0,J7+30) -> 46508 | K8: =IF(K6=0,0,K7+30) -> 46539 | L8: =IF(L6=0,0,L7+30) -> 46570 | M8: =IF(M6=0,0,M7+30) -> 46601 | N8: =IF(N6=0,0,N7+30) -> 46632 | ... Q8: =IF(Q6=0,0,Q7+30) -> 0
A9: =CONCATENATE($E$6,"|",B9) -> 10|1 | B9: 1 | C9: SERVIÇOS PRELIMINARES E ADMINISTRAÇÃO DA OBRA | E9: 1 | F9: 100 | S9: ='Planilha de Serviços'!H11 -> 11218.667 | T9: =IF($S$29=0,0,(S9/$S$29)*100) -> 3.2659045 | W9: =SUM(F9:Q9) -> 100
A10: =CONCATENATE($E$6,"|",B10) -> 10|2 | B10: 2 | C10: FUNDACOES MURO/ RAMPA | E10: 2 | F10: 50 | G10: 50 | S10: ='Planilha de Serviços'!H17 -> 43842.841 | T10: =IF($S$29=0,0,(S10/$S$29)*100) -> 12.76324 | W10: =SUM(F10:Q10) -> 100
A11: =CONCATENATE($E$6,"|",B11) -> 10|3 | B11: 3 | C11: SUPERESTRUTURA | E11: 4 | I11: 100 | S11: ='Planilha de Serviços'!H34 -> 116492.41 | T11: =IF($S$29=0,0,(S11/$S$29)*100) -> 33.912506 | W11: =SUM(F11:Q11) -> 100
A12: =CONCATENATE($E$6,"|",B12) -> 10|4 | B12: 4 | C12: DEMOLIÇÕES E RETIRADAS | E12: 5 | J12: 100 | S12: ='Planilha de Serviços'!H60 -> 5278.2275 | T12: =IF($S$29=0,0,(S12/$S$29)*100) -> 1.5365629 | W12: =SUM(F12:Q12) -> 100
A13: =CONCATENATE($E$6,"|",B13) -> 10|5 | B13: 5 | C13: ALVENARIA, DIVISÓRIAS, MUROS E FECHOS | E13: 3 | J13: 100 | S13: ='Planilha de Serviços'!H70 -> 5694.0753 | T13: =IF($S$29=0,0,(S13/$S$29)*100) -> 1.6576218 | W13: =SUM(F13:Q13) -> 100
A14: =CONCATENATE($E$6,"|",B14) -> 10|6 | B14: 6 | C14: REVESTIMENTOS CERÂMICOS | E14: 5 | K14: 50 | L14: 50 | S14: ='Planilha de Serviços'!H75 -> 72784.697 | T14: =IF($S$29=0,0,(S14/$S$29)*100) -> 21.188603 | W14: =SUM(F14:Q14) -> 100
A15: =CONCATENATE($E$6,"|",B15) -> 10|7 | B15: 7 | C15: ESQUADRIAS | E15: 6 | M15: 100 | S15: ='Planilha de Serviços'!H79 -> 10960.838 | T15: =IF($S$29=0,0,(S15/$S$29)*100) -> 3.1908472 | W15: =SUM(F15:Q15) -> 100
A16: =CONCATENATE($E$6,"|",B16) -> 10|8 | B16: 8 | C16: INSTALAÇÕES HIDRAULICAS | E16: 6 | M16: 100 | S16: ='Planilha de Serviços'!H86 -> 10118.338 | T16: =IF($S$29=0,0,(S16/$S$29)*100) -> 2.9455841 | W16: =SUM(F16:Q16) -> 100
A17: =CONCATENATE($E$6,"|",B17) -> 10|9 | B17: 9 | C17: INSTALAÇÕES ELÉTRICAS | M17: 100 | S17: ='Planilha de Serviços'!H98 -> 28468.009 | T17: =IF($S$29=0,0,(S17/$S$29)*100) -> 8.2874195 | W17: =SUM(F17:Q17) -> 100
A18: =CONCATENATE($E$6,"|",B18) -> 10|10 | B18: 10 | C18: FORRO | N18: 100 | S18: ='Planilha de Serviços'!H115 -> 18029.57 | T18: =IF($S$29=0,0,(S18/$S$29)*100) -> 5.2486499 | W18: =SUM(F18:Q18) -> 100
A19: =CONCATENATE($E$6,"|",B19) -> 10|11 | B19: 11 | C19: PINTURA | O19: 100 | S19: ='Planilha de Serviços'!H117 -> 15132.413 | T19: =IF($S$29=0,0,(S19/$S$29)*100) -> 4.4052486 | W19: =SUM(F19:Q19) -> 100
A20: =CONCATENATE($E$6,"|",B20) -> 10|12 | B20: 12 | C20: LIMPEZA FINAL | O20: 100 | S20: ='Planilha de Serviços'!H125 -> 5488.6281 | T20: =IF($S$29=0,0,(S20/$S$29)*100) -> 1.5978133 | W20: =SUM(F20:Q20) -> 100
F21: =IF(F$6=0,0,VLOOKUP($A21,#REF!,F$6+4,FALSE)) -> #REF! | T21: =IF($S$29=0,0,(S21/$S$29)*100) -> 0
F22: =IF(F$6=0,0,VLOOKUP($A22,#REF!,F$6+4,FALSE)) -> #REF! | T22: =IF($S$29=0,0,(S22/$S$29)*100) -> 0
F23: =IF(F$6=0,0,VLOOKUP($A23,#REF!,F$6+4,FALSE)) -> #REF! | T23: =IF($S$29=0,0,(S23/$S$29)*100) -> 0
F24: =IF(F$6=0,0,VLOOKUP($A24,#REF!,F$6+4,FALSE)) -> #REF! | T24: =IF($S$29=0,0,(S24/$S$29)*100) -> 0
F25: =IF(F$6=0,0,VLOOKUP($A25,#REF!,F$6+4,FALSE)) -> #REF! | T25: =IF($S$29=0,0,(S25/$S$29)*100) -> 0
F26: =IF(F$6=0,0,VLOOKUP($A26,#REF!,F$6+4,FALSE)) -> #REF! | T26: =IF($S$29=0,0,(S26/$S$29)*100) -> 0
F27: =IF(F$6=0,0,VLOOKUP($A27,#REF!,F$6+4,FALSE)) -> #REF! | T27: =IF($S$29=0,0,(S27/$S$29)*100) -> 0
C29: TOTAIS | D29: TOTAIS | S29: =SUM(S9:S28) -> 343508.72 | T29: =SUM(T9:T27) -> 100
B30: COMPOSIÇÃO DOS RECURSOS (TESOURO E CONTRAPARTIDA)
B31: ITEM | F31: PARCELAS | R31: Nº DE | S31: TOTAL | T31: % S/
F32: =F6 -> 1 | G32: =G6 -> 2 | H32: =H6 -> 3 | I32: =I6 -> 4 | J32: =J6 -> 5 | K32: =K6 -> 6 | L32: =L6 -> 7 | M32: =M6 -> 8 | ... Q32: =Q6 -> 0 | R32: MESES | S32: ITEM | T32: ITEM
B33: 1T | C33: SERVIÇOS PRELIMINARES E ADMINISTRAÇÃO DA OBRA | D33: TESOURO | E33: R$ | F33: =((F9/100)*$S$9)*$T$2 -> 0 | G33: =((G9/100)*$S$9)*$T$2 -> 0 | H33: =((H9/100)*$S$9)*$T$2 -> 0 | I33: =((I9/100)*$S$9)*$T$2 -> 0 | J33: =((J9/100)*$S$9)*$T$2 -> 0 | K33: =((K9/100)*$S$9)*$T$2 -> 0 | L33: =((L9/100)*$S$9)*$T$2 -> 0 | M33: =((M9/100)*$S$9)*$T$2 -> 0 | ... Q33: =((Q9/100)*$S$9)*$T$2 -> 0 | R33: =COUNTIF(F33:Q33,">0") -> 0 | S33: =SUM(F33:Q33) -> 0 | T33: =IF($S$61=0,0,(S33/$S$61)) -> #REF!
B34: 1C | D34: CONTRAPARTIDA | E34: R$ | F34: =((F9/100)*$S$9)*T3 -> 11218.667 | G34: =((G9/100)*$S$9)*$T$3 -> 0 | H34: =((H9/100)*$S$9)*$T$3 -> 0 | I34: =((I9/100)*$S$9)*$T$3 -> 0 | J34: =((J9/100)*$S$9)*$T$3 -> 0 | K34: =((K9/100)*$S$9)*$T$3 -> 0 | L34: =((L9/100)*$S$9)*$T$3 -> 0 | M34: =((M9/100)*$S$9)*$T$3 -> 0 | N34: =((N9/100)*$S$9)*$T$3 -> 0 | ... Q34: =((Q9/100)*$S$9)*$T$3 -> 0 | R34: =COUNTIF(F34:Q34,">0") -> 1 | S34: =SUM(F34:Q34) -> 11218.667 | T34: =IF($S$61=0,0,(S34/$S$61)) -> #REF!
B35: 2T | C35: FUNDACOES | D35: TESOURO | E35: R$ | F35: =((F10/100)*$S$10)*$T$2 -> 0 | G35: =((G10/100)*$S$10)*$T$2 -> 0 | H35: =((H10/100)*$S$10)*$T$2 -> 0 | I35: =((I10/100)*$S$10)*$T$2 -> 0 | J35: =((J10/100)*$S$10)*$T$2 -> 0 | K35: =((K10/100)*$S$10)*$T$2 -> 0 | L35: =((L10/100)*$S$10)*$T$2 -> 0 | M35: =((M10/100)*$S$10)*$T$2 -> 0 | ... Q35: =((Q10/100)*$S$10)*$T$2 -> 0 | R35: =COUNTIF(F35:Q35,">0") -> 0 | S35: =SUM(F35:Q35) -> 0 | T35: =IF($S$61=0,0,(S35/$S$61)) -> #REF!
B36: 2C | D36: CONTRAPARTIDA | E36: R$ | F36: =((F10/100)*$S$10)*$T$3 -> 21921.42 | G36: =((G10/100)*$S$10)*$T$3 -> 21921.42 | H36: =((H10/100)*$S$10)*$T$3 -> 0 | I36: =((I10/100)*$S$10)*$T$3 -> 0 | J36: =((J10/100)*$S$10)*$T$3 -> 0 | K36: =((K10/100)*$S$10)*$T$3 -> 0 | L36: =((L10/100)*$S$10)*$T$3 -> 0 | M36: =((M10/100)*$S$10)*$T$3 -> 0 | ... Q36: =((Q10/100)*$S$10)*$T$3 -> 0 | R36: =COUNTIF(F36:Q36,">0") -> 2 | S36: =SUM(F36:Q36) -> 43842.841 | T36: =IF($S$61=0,0,(S36/$S$61)) -> #REF!
B37: 3T | C37: SUPERESTRUTURA | D37: TESOURO | E37: R$ | F37: =((#REF!/100)*#REF!)*$T$2 -> #REF! | G37: =((#REF!/100)*#REF!)*$T$2 -> #REF! | H37: =((#REF!/100)*#REF!)*$T$2 -> #REF! | I37: =((#REF!/100)*#REF!)*$T$2 -> #REF! | J37: =((#REF!/100)*#REF!)*$T$2 -> #REF! | K37: =((#REF!/100)*#REF!)*$T$2 -> #REF! | L37: =((#REF!/100)*#REF!)*$T$2 -> #REF! | M37: =((#REF!/100)*#REF!)*$T$2 -> #REF! | ... Q37: =((#REF!/100)*#REF!)*$T$2 -> #REF! | R37: =COUNTIF(F37:Q37,">0") -> 0 | S37: =SUM(F37:Q37) -> #REF! | T37: =IF($S$61=0,0,(S37/$S$61)) -> #REF!
B38: 3C | D38: CONTRAPARTIDA | E38: R$ | F38: =((#REF!/100)*#REF!)*$T$3 -> #REF! | G38: =((#REF!/100)*#REF!)*$T$3 -> #REF! | H38: =((#REF!/100)*#REF!)*$T$3 -> #REF! | I38: =((#REF!/100)*#REF!)*$T$3 -> #REF! | J38: =((#REF!/100)*#REF!)*$T$3 -> #REF! | K38: =((#REF!/100)*#REF!)*$T$3 -> #REF! | L38: =((#REF!/100)*#REF!)*$T$3 -> #REF! | M38: =((#REF!/100)*#REF!)*$T$3 -> #REF! | ... Q38: =((#REF!/100)*#REF!)*$T$3 -> #REF! | R38: =COUNTIF(F38:Q38,">0") -> 0 | S38: =SUM(F38:Q38) -> #REF! | T38: =IF($S$61=0,0,(S38/$S$61)) -> #REF!
B39: 4T | C39: ALVENARIA, DIVISÓRIAS, MUROS E FECHOS | D39: TESOURO | E39: R$ | F39: =((F11/100)*$S$11)*T2 -> 0 | G39: =((G11/100)*$S$11)*$T$2 -> 0 | H39: =((H11/100)*$S$11)*$T$2 -> 0 | I39: =((I11/100)*$S$11)*$T$2 -> 0 | J39: =((J11/100)*$S$11)*$T$2 -> 0 | K39: =((K11/100)*$S$11)*$T$2 -> 0 | L39: =((L11/100)*$S$11)*$T$2 -> 0 | M39: =((M11/100)*$S$11)*$T$2 -> 0 | N39: =((N11/100)*$S$11)*$T$2 -> 0 | ... Q39: =((Q11/100)*$S$11)*$T$2 -> 0 | R39: =COUNTIF(F39:Q39,">0") -> 0 | S39: =SUM(F39:Q39) -> 0 | T39: =IF($S$61=0,0,(S39/$S$61)) -> #REF!
B40: 4C | D40: CONTRAPARTIDA | E40: R$ | F40: =((F11/100)*$S$11)*$T$3 -> 0 | G40: =((G11/100)*$S$11)*$T$3 -> 0 | H40: =((H11/100)*$S$11)*$T$3 -> 0 | I40: =((I11/100)*$S$11)*$T$3 -> 116492.41 | J40: =((J11/100)*$S$11)*$T$3 -> 0 | K40: =((K11/100)*$S$11)*$T$3 -> 0 | L40: =((L11/100)*$S$11)*$T$3 -> 0 | M40: =((M11/100)*$S$11)*$T$3 -> 0 | ... Q40: =((Q11/100)*$S$11)*$T$3 -> 0 | R40: =COUNTIF(F40:Q40,">0") -> 1 | S40: =SUM(F40:Q40) -> 116492.41 | T40: =IF($S$61=0,0,(S40/$S$61)) -> #REF!
B41: 5T | C41: COBERTURA TELHA METALICA | D41: TESOURO | E41: R$ | F41: =((F12/100)*$S$12)*$T$2 -> 0 | G41: =((G12/100)*$S$12)*$T$2 -> 0 | H41: =((H12/100)*$S$12)*$T$2 -> 0 | I41: =((I12/100)*$S$12)*$T$2 -> 0 | J41: =((J12/100)*$S$12)*$T$2 -> 0 | K41: =((K12/100)*$S$12)*$T$2 -> 0 | L41: =((L12/100)*$S$12)*$T$2 -> 0 | M41: =((M12/100)*$S$12)*$T$2 -> 0 | ... Q41: =((Q12/100)*$S$12)*$T$2 -> 0 | R41: =COUNTIF(F41:Q41,">0") -> 0 | S41: =SUM(F41:Q41) -> 0 | T41: =IF($S$61=0,0,(S41/$S$61)) -> #REF!
...

Sheet BDI
A1: BDI - ACÓRDÃO Nº 2622/2013 - TCU - EDITAL LICITAÇÃO EDIFICAÇÃO - ANEXO VII | K1: BDI - ACÓRDÃO Nº 2622/2013 - TCU - EMPRESA - PROPOSTA EDIFICAÇÃO - ANEXO VII
A2: IMPOSTOS | C2: ISS = | D2: =B26 -> 3 | K2: IMPOSTOS | N2: ISS = | O2: =D2 -> 3
C3: PIS = | D3: 0.65 | N3: PIS = | O3: 0.65
C4: COFINS = | D4: 3 | N4: COFINS = | O4: 3
C5: CPRB = | D5: 0 | N5: CPRB = | O5: 0
B6: TOTAL = | D6: =SUM(D2:D5) -> 6.65 | M6: TOTAL = | O6: =SUM(O2:O5) -> 6.65
A7: TIPO DE SERVIÇO | B7: SERVIÇOS | C7: MATERIAIS | D7: EQUIPAMENTOS | K7: TIPO DE SERVIÇO | M7: SERVIÇO | N7: MATERIAIS | O7: EQUIPAMENTOS
A8: ADMINISTRAÇÃO CENTRAL | B8: 5 | C8: 3.45 | D8: 4 | K8: ADMINISTRAÇÃO CENTRAL | M8: =B8 -> 5 | N8: =C8 -> 3.45 | O8: =D8 -> 4
A9: RISCOS | B9: 1.27 | C9: 0.85 | D9: 1.27 | K9: RISCOS | M9: =B9 -> 1.27 | N9: =C9 -> 0.85 | O9: =D9 -> 1.27
A10: SEGUROS E GRANTIAS | B10: 1 | C10: 0.48 | D10: 0.8 | K10: SEGUROS E GRANTIAS | M10: =B10 -> 1 | N10: =C10 -> 0.48 | O10: =D10 -> 0.8
A11: DESPESAS FINANCEIRAS | B11: 1 | C11: 0.85 | D11: 0.85 | K11: DESPESAS FINANCEIRAS | M11: =B11 -> 1 | N11: =C11 -> 0.85 | O11: =D11 -> 0.85
A12: LUCRO | B12: 7.44 | C12: 5.11 | D12: 7.4 | K12: LUCRO | M12: =B12 -> 7.44 | N12: =C12 -> 5.11 | O12: =D12 -> 7.4
A13: BDI (OBRA OU MATERIAIS/EQUIP.) | B13: =(((((1+(B8+B9+B10)/100)*(1+B11/100)*(1+B12/100))/(1-D6/100))-1)*100) -> 24.695658 | C13: =(((((1+(C8+C9+C10)/100)*(1+C11/100)*(1+C12/100))/(1-(D3+D4+D5)/100))-1)*100) -> 15.278048 | D13: =(((((1+(D8+D9+D10)/100)*(1+D11/100)*(1+D12/100))/(1-(D3+D4+D5)/100))-1)*100) -> 19.239744 | K13: BDI (OBRA OU MATERIAIS/EQUIP.) | M13: =(((((1+(M8+M9+M10)/100)*(1+M11/100)*(1+M12/100))/(1-O6/100))-1)*100) -> 24.695658 | N13: =(((((1+(N8+N9+N10)/100)*(1+N11/100)*(1+N12/100))/(1-(O3+O4+O5)/100))-1)*100) -> 15.278048 | O13: =(((((1+(O8+O9+O10)/100)*(1+O11/100)*(1+O12/100))/(1-(O3+O4+O5)/100))-1)*100) -> 19.239744
A14: BDI=(((((1+(B8+B9+B10)/100)*(1+B11/100)*(1+B12/100))/(1-D6/100))-1)*100) | K14: BDI=(((((1+(M8+M9+M10)/100)*(1+M11/100)*(1+M12/100))/(1-O6/100))-1)*100)
A15: 1. BDI (SERVIÇO - OBRA) | B15: =IF(E15="X",0,ROUND(B13,2)/100) -> 0.247 | K15: BDI (SERVIÇO - OBRA) | M15: =IF(P15="X",0,ROUND(M13,2)/100) -> 0.247
A17: 2. BDI (MATERIAIS E EQUIPAMENTOS) | B17: =IF(E15="X",0,ROUND(C13,2)/100) -> 0.1528 | K17: BDI (MATERIAIS E EQUIPAMENTOS) | M17: =IF(P15="X",0,ROUND(N13,2)/100) -> 0.1528
A19: 3. BDI (EQUIPAMENTOS) | B19: =IF(E15="X",0,ROUND(D13,2)/100) -> 0.1924 | K19: BDI (EQUIPAMENTOS) | M19: =IF(P15="X",0,ROUND(O13,2)/100) -> 0.1924
B22: DIGITE | K22: Representante da Empresa (Assinatura Digital): | O22: Data da Proposta:
A23: 1 - Solicitar o valor do ISS do município | B23: 3 | C23: =IF(B23<=5,"% - Ok","Verificar o valor do ISS, se de acordo com a Lei Municipal") -> % - Ok
A24: 2- Solicitar a "Base de Cálculo" (% de mão de Obra) - Lei Municipal | B24: 100 | C24: %
A25: 3- Fórmula de cálculo do ISS | B25: =ISS x base de cálculo | O25: =[3]Dados_Obra!L24 -> 45971
A26: 4- Valor do ISS calculado | B26: =ROUND(B23*B24/100,4) -> 3 | C26: %
K27: Resp. Técnico da Empresa e CREA/CAU (Assinatura Digital):
A28: VALORES DO BDI POR TIPO DE OBRA
A29: TIPOS DE OBRA | B29: 1º Quartil | C29: Médio | D29: 3º Quartil
A30: CONSTRUÇÃO DE EDIFÍCIOS | B30: 0.2034 | C30: 0.2212 | D30: 0.25
A31: CONSTRUÇÃO DE RODOVIAS E FERROVIAS | B31: 0.196 | C31: 0.2095 | D31: 0.2423
A32: CONSTRUÇÃO DE REDES DE ABASTECIMENTO DE ÁGUA, COLETA DE ESGOTO E CONSTRUÇÕES CORRELATAS | B32: 0.2076 | C32: 0.2418 | D32: 0.2644
A33: CONSTRUÇÃO E MANUTENÇÃO DE ESTAÇÕES E REDES DE DISTRIBUIÇÃO DE ENERGIA ELÉTRICA | B33: 0.24 | C33: 0.2584 | D33: 0.2786
A34: OBRAS PORTUÁRIAS, MARÍTIMAS E FLUVIAIS | B34: 0.228 | C34: 0.2748 | D34: 0.3095
A37: BDI PARA ITENS DE MERO FORNECIMENTO DE MATERIAIS E EQUIPAMENTOS | B37: 1º Quartil | C37: Médio | D37: 3º Quartil
B38: 0.111 | C38: 0.1402 | D38: 0.168
A41: TIPOS DE OBRA | B41: ADMINISTRAÇÃO CENTRAL | E41: RISCO | H41: SEGURO + GARANTIA | K41: DESPESA FINANCEIRA | N41: LUCRO
B42: 1º Quartil | C42: Médio | D42: 3º Quartil | E42: 1º Quartil | F42: Médio | G42: 3º Quartil | H42: 1º Quartil | I42: Médio | J42: 3º Quartil | K42: 1º Quartil | L42: Médio | M42: 3º Quartil | N42: 1º Quartil | O42: Médio | P42: 3º Quartil
A43: CONSTRUÇÃO DE EDIFÍCIOS | B43: 0.03 | C43: 0.04 | D43: 0.055 | E43: 0.0097 | F43: 0.0127 | G43: 0.0127 | H43: 0.008 | I43: 0.008 | J43: 0.01 | K43: 0.0059 | L43: 0.0123 | M43: 0.0139 | N43: 0.0616 | O43: 0.074 | P43: 0.0896
A44: CONSTRUÇÃO DE RODOVIAS E FERROVIAS | B44: 0.038 | C44: 0.0401 | D44: 0.0467 | E44: 0.005 | F44: 0.0056 | G44: 0.0097 | H44: 0.0032 | I44: 0.004 | J44: 0.0074 | K44: 0.0102 | L44: 0.0111 | M44: 0.0121 | N44: 0.0664 | O44: 0.073 | P44: 0.0869
A45: CONSTRUÇÃO DE REDES DE ABASTECIMENTO DE ÁGUA, COLETA DE ESGOTO E CONSTRUÇÕES CORRELATAS | B45: 0.0343 | C45: 0.0493 | D45: 0.0671 | E45: 0.01 | F45: 0.0139 | G45: 0.0174 | H45: 0.0028 | I45: 0.0049 | J45: 0.0075 | K45: 0.0094 | L45: 0.0099 | M45: 0.0117 | N45: 0.0674 | O45: 0.0804 | P45: 0.094
A46: CONSTRUÇÃO E MANUTENÇÃO DE ESTAÇÕES E REDES DE DISTRIBUIÇÃO DE ENERGIA ELÉTRICA | B46: 0.0529 | C46: 0.0592 | D46: 0.0793 | E46: 0.01 | F46: 0.0148 | G46: 0.0197 | H46: 0.0025 | I46: 0.0051 | J46: 0.0056 | K46: 0.0101 | L46: 0.0107 | M46: 0.0111 | N46: 0.08 | O46: 0.0831 | P46: 0.0951
A47: OBRAS PORTUÁRIAS, MARÍTIMAS E FLUVIAIS | B47: 0.04 | C47: 0.0552 | D47: 0.0785 | E47: 0.0146 | F47: 0.0232 | G47: 0.0316 | H47: 0.0081 | I47: 0.0122 | J47: 0.0199 | K47: 0.0094 | L47: 0.0102 | M47: 0.0133 | N47: 0.0714 | O47: 0.084 | P47: 0.1043
A50: BDI PARA ITENS DE MERO FORNECIMENTO DE MATERIAIS E EQUIPAMENTOS
...

Sheet MEMORIAL
A1: MURO
A2: DEMOLICAO
A3: GABARITO | B3: 6.42 | C3: 2.5 | D3: 7.8 | E3: 20 | G3: =SUM(B3:F3) -> 36.72 | H3: M
A5: ESTACAS | B5: 36,72 M DE MURO | C5: A CADA 2,5M | D5: 17 ESTACAS DE 6 M | E5: 102M
A6: ARAMACAO | B6: 25*3,50 | C6: 59,5M DE COLUNA ARMADA | D6: 297M ACO 10MM | E6: 183,25KG
B7: ESTRIBO | C7: A CADA 15CM (15X15) | D7: 345M ACO 5MM | E7: 53,13KG
A8: BLOCO | B8: 0,5X0,5X0,5 | C8: 0,12M3 X 17 = 2,04‬M3
A9: FORMA | B9: 1M2 X 17 = 17M2
A10: ARAMACAO | B10: 9M X17 = 153M | C10: 37,48KG
A12: BALDRAME | B12: 36,72M | C12: FORMA 36,72X0,3 X2 = 22,03‬M2
B13: VALA | C13: 36,72X0,3X0,2 = 2,26
B14: ARMACAO 10MM | C14: 36,72X4 = 146,88‬M | D14: 90,62KG
B15: ARMACAO 5MM | D15: 122,45kg
B16: CONCRETO | C16: 36,72X0,3X0,15= 1,65M3
B17: IMPERM. | C17: (0,3+0,3+0,15)X36,72= 27,54‬M2
A19: RAMPA
A20: ESTACAS | B20: 30,83 M | C20: A CADA 2,5M | D20: 18 ESTACAS DE 6 M | E20: 108M
A21: ARAMACAO | B21: 18*3,50 | C21: 63M DE COLUNA ARMADA | D21: 315M ACO 10MM | E21: 194,35KG
B22: ESTRIBO | C22: A CADA 15CM (15X15) | D22: 333M ACO 5MM | E22: 58,28KG
A24: BLOCO | B24: 0,5X0,5X0,5 | C24: 0,12M3 X 17 = 2,16‬M3
A25: FORMA | B25: 1M2 X 18 = 18M2
A26: ARAMACAO | B26: 9M X18 = 162M | C26: 39,69KG
A28: BALDRAME | B28: 30,83‬M | C28: FORMA 30,83X0,3 X2 = 18,49‬M2
B29: VALA | C29: 30,83X0,3X0,2 = 1,84M3
B30: ARMACAO 10MM | C30: 30,83X4 = 123,32‬M | D30: 76,08KG
B31: ARMACAO 5MM | D31: 98,32kg
B32: CONCRETO | C32: 30,83X0,3X0,15= 1,39M3
B33: IMPERM. | C33: (0,3+0,3+0,15)X30,83= 23,12M2
A35: GERAL
A36: PILAR | B36: 35 pilares (0,2X0,3)
B37: FORMA | C37: (0,3+0,3)*35 = 21m2
B38: ARMAÇÃO | C38: 6 verg 10mm altura media 2,5m | D38: 2,5x6 = 15m | E38: 15x35 = 525m | F38: 323,92kg
B39: ESTRIBO 14X24 | C39: 14X24 | D39: 87,50/0,15 = 583,33 ESTRIBOS | E39: 583,33X0,86 = 501,66M | F39: 77,25kg
B40: CONCRETO | C40: ((0,3X0,2) X 2,50) X 35 = 5,25M3
A42: RESPALDO | B42: 67,55M (15X30)
B43: FORMA | C43: JÁ INCLUSO NA BALDRAME
B44: ARAMAÇÃO | C44: 6 verg. Em cima 2 10mm, em baixo 4 12,5mm
B45: verg 10mm | C45: 2x67,55 = 135,10m | D45: 83,35kg
B46: verg. 12,5mm | C46: 4x67,55 = 270,2‬0m | D46: 260,20kg
B47: ESTRIBO 10X24 | C47: 67,55/0,13 = 520 ESTRIBOS | D47: 520X0,78 = 405,60M | E47: 62,46kg
...

Sheet cotações
A1: COTAÇÕES
A5: ITEM | B5: DESCRIÇÃO | C5: EMPRESA | D5: UNID. | E5: COEF. | F5: R$ UNIT. | G5: CUSTO TOTAL (R$) | H5: análise
H6: média | I6: mediana
A7: COTAÇÃO 1 | B7: PORTA PIVOTANTE 01 FOLHA INCOLOR 10MM, TEMPERADO, DIMENSÃO 0,90x2,10 -INSTALADO | D7: UN | G7: =(G8+G9+G10)/3 -> 1085.0733
B8: =B7 -> PORTA PIVOTANTE 01 FOLHA INCOLOR 10MM, TEMPERADO, DIMENSÃO 0,90x2,10 -INSTALADO | C8: BELLA CASA PERSIANAS E VIDRAÇARIA | D8: UN | E8: 1 | F8: 1112.87 | G8: =F8*E8 -> 1112.87
B9: =B8 -> PORTA PIVOTANTE 01 FOLHA INCOLOR 10MM, TEMPERADO, DIMENSÃO 0,90x2,10 -INSTALADO | C9: SERRAGLASS | D9: UN | E9: 1 | F9: 1136.35 | G9: =F9*E9 -> 1136.35 | H9: =SUM(G8:G10)/3 -> 1085.0733 | I9: 1112.87
B10: =B9 -> PORTA PIVOTANTE 01 FOLHA INCOLOR 10MM, TEMPERADO, DIMENSÃO 0,90x2,10 -INSTALADO | C10: VIDRAÇARIA PARANA | D10: UN | E10: 1 | F10: 1006 | G10: =F10*E10 -> 1006
A11: COTAÇÃO 2 | B11: PORTA PIVOTANTE 01 FOLHA INCOLOR 10MM, TEMPERADO, DIMENSÃO 0,80x2,10 -INSTALADO | D11: UN | G11: =(G12+G13+G14)/3 -> 1021.32
B12: =B11 -> PORTA PIVOTANTE 01 FOLHA INCOLOR 10MM, TEMPERADO, DIMENSÃO 0,80x2,10 -INSTALADO | C12: BELLA CASA PERSIANAS E VIDRAÇARIA | D12: UN | E12: 1 | F12: 1050.54 | G12: =F12*E12 -> 1050.54
B13: =B12 -> PORTA PIVOTANTE 01 FOLHA INCOLOR 10MM, TEMPERADO, DIMENSÃO 0,80x2,10 -INSTALADO | C13: SERRAGLASS | D13: UN | E13: 1 | F13: 1061.42 | G13: =F13*E13 -> 1061.42 | H13: =SUM(G12:G14)/3 -> 1021.32 | I13: 1050.54
B14: =B13 -> PORTA PIVOTANTE 01 FOLHA INCOLOR 10MM, TEMPERADO, DIMENSÃO 0,80x2,10 -INSTALADO | C14: VIDRAÇARIA PARANA | D14: UN | E14: 1 | F14: 952 | G14: =F14*E14 -> 952
A15: COTAÇÃO 3 | B15: PORTA DE CORRER 04 FOLHAS INCOLOR 10MM, TEMPERADO, DIMENSÃO 3,00x2,10 -INSTALADO | D15: UN | G15: =(G16+G17+G18)/3 -> 2790.1967
B16: =B15 -> PORTA DE CORRER 04 FOLHAS INCOLOR 10MM, TEMPERADO, DIMENSÃO 3,00x2,10 -INSTALADO | C16: BELLA CASA PERSIANAS E VIDRAÇARIA | D16: UN | E16: 1 | F16: 2611.14 | G16: =F16*E16 -> 2611.14
B17: =B16 -> PORTA DE CORRER 04 FOLHAS INCOLOR 10MM, TEMPERADO, DIMENSÃO 3,00x2,10 -INSTALADO | C17: SERRAGLASS | D17: UN | E17: 1 | F17: 3149.45 | G17: =F17*E17 -> 3149.45 | H17: =SUM(G16:G18)/3 -> 2790.1967 | I17: 2611.14
B18: =B17 -> PORTA DE CORRER 04 FOLHAS INCOLOR 10MM, TEMPERADO, DIMENSÃO 3,00x2,10 -INSTALADO | C18: VIDRAÇARIA PARANA | D18: UN | E18: 1 | F18: 2610 | G18: =F18*E18 -> 2610
A19: COTAÇÃO 4 | B19: JANELA MAXIM-AR 01 FOLHA INCOLOR 8MM, TEMPERADO, DIMENSÃO 0,80x0,80 -INSTALADO | D19: UN | G19: =(G20+G21+G22)/3 -> 318.76
B20: =B19 -> JANELA MAXIM-AR 01 FOLHA INCOLOR 8MM, TEMPERADO, DIMENSÃO 0,80x0,80 -INSTALADO | C20: BELLA CASA PERSIANAS E VIDRAÇARIA | D20: UN | E20: 1 | F20: 260.26 | G20: =F20*E20 -> 260.26
B21: =B20 -> JANELA MAXIM-AR 01 FOLHA INCOLOR 8MM, TEMPERADO, DIMENSÃO 0,80x0,80 -INSTALADO | C21: SERRAGLASS | D21: UN | E21: 1 | F21: 407.02 | G21: =F21*E21 -> 407.02 | H21: =SUM(G20:G22)/3 -> 318.76 | I21: 260.26
B22: =B21 -> JANELA MAXIM-AR 01 FOLHA INCOLOR 8MM, TEMPERADO, DIMENSÃO 0,80x0,80 -INSTALADO | C22: VIDRAÇARIA PARANA | D22: UN | E22: 1 | F22: 289 | G22: =F22*E22 -> 289
A23: COTAÇÃO 5 | B23: JANELA DE CORRER 04 FOLHAS INCOLOR 8MM, TEMPERADO, DIMENSÃO 1,20x1,00 -INSTALADO | D23: UN | G23: =(G24+G25+G26)/3 -> 622.50333
B24: =B23 -> JANELA DE CORRER 04 FOLHAS INCOLOR 8MM, TEMPERADO, DIMENSÃO 1,20x1,00 -INSTALADO | C24: BELLA CASA PERSIANAS E VIDRAÇARIA | D24: UN | E24: 1 | F24: 535.95 | G24: =F24*E24 -> 535.95
B25: =B24 -> JANELA DE CORRER 04 FOLHAS INCOLOR 8MM, TEMPERADO, DIMENSÃO 1,20x1,00 -INSTALADO | C25: SERRAGLASS | D25: UN | E25: 1 | F25: 681.56 | G25: =F25*E25 -> 681.56 | H25: =SUM(G24:G26)/3 -> 622.50333 | I25: 650
B26: =B25 -> JANELA DE CORRER 04 FOLHAS INCOLOR 8MM, TEMPERADO, DIMENSÃO 1,20x1,00 -INSTALADO | C26: VIDRAÇARIA PARANA | D26: UN | E26: 1 | F26: 650 | G26: =F26*E26 -> 650
A27: COTAÇÃO 6 | B27: JANELA DE CORRER 04 FOLHAS INCOLOR 8MM, TEMPERADO, DIMENSÃO 1,70x1,20 -INSTALADO | D27: UN | G27: =(G28+G29+G30)/3 -> 857.81667
B28: =B27 -> JANELA DE CORRER 04 FOLHAS INCOLOR 8MM, TEMPERADO, DIMENSÃO 1,70x1,20 -INSTALADO | C28: BELLA CASA PERSIANAS E VIDRAÇARIA | D28: UN | E28: 1 | F28: 800.97 | G28: =F28*E28 -> 800.97
B29: =B28 -> JANELA DE CORRER 04 FOLHAS INCOLOR 8MM, TEMPERADO, DIMENSÃO 1,70x1,20 -INSTALADO | C29: SERRAGLASS | D29: UN | E29: 1 | F29: 1002.48 | G29: =F29*E29 -> 1002.48 | H29: =SUM(G28:G30)/3 -> 857.81667 | I29: 800.97
B30: =B29 -> JANELA DE CORRER 04 FOLHAS INCOLOR 8MM, TEMPERADO, DIMENSÃO 1,70x1,20 -INSTALADO | C30: VIDRAÇARIA PARANA | D30: UN | E30: 1 | F30: 770 | G30: =F30*E30 -> 770
A31: COTAÇÃO 7 | B31: JANELA DE CORRER 04 FOLHAS INCOLOR 8MM, TEMPERADO, DIMENSÃO 1,80x1,20 -INSTALADO | D31: UN | G31: =(G32+G33+G34)/3 -> 877.48333
B32: =B31 -> JANELA DE CORRER 04 FOLHAS INCOLOR 8MM, TEMPERADO, DIMENSÃO 1,80x1,20 -INSTALADO | C32: BELLA CASA PERSIANAS E VIDRAÇARIA | D32: UN | E32: 1 | F32: 809.77 | G32: =F32*E32 -> 809.77
B33: =B32 -> JANELA DE CORRER 04 FOLHAS INCOLOR 8MM, TEMPERADO, DIMENSÃO 1,80x1,20 -INSTALADO | C33: SERRAGLASS | D33: UN | E33: 1 | F33: 1014.68 | G33: =F33*E33 -> 1014.68 | H33: =SUM(G32:G34)/3 -> 877.48333 | I33: 809.77
B34: =B33 -> JANELA DE CORRER 04 FOLHAS INCOLOR 8MM, TEMPERADO, DIMENSÃO 1,80x1,20 -INSTALADO | C34: VIDRAÇARIA PARANA | D34: UN | E34: 1 | F34: 808 | G34: =F34*E34 -> 808
A35: COTAÇÃO 8 | B35: JANELA DE CORRER 04 FOLHAS INCOLOR 8MM, TEMPERADO, DIMENSÃO 2,20x1,20 -INSTALADO | D35: UN | G35: =(G36+G37+G38)/3 -> 1018.7667
B36: =B35 -> JANELA DE CORRER 04 FOLHAS INCOLOR 8MM, TEMPERADO, DIMENSÃO 2,20x1,20 -INSTALADO | C36: BELLA CASA PERSIANAS E VIDRAÇARIA | D36: UN | E36: 1 | F36: 945.04 | G36: =F36*E36 -> 945.04
B37: =B36 -> JANELA DE CORRER 04 FOLHAS INCOLOR 8MM, TEMPERADO, DIMENSÃO 2,20x1,20 -INSTALADO | C37: SERRAGLASS | D37: UN | E37: 1 | F37: 1181.26 | G37: =F37*E37 -> 1181.26 | H37: =SUM(G36:G38)/3 -> 1018.7667 | I37: 930
B38: =B37 -> JANELA DE CORRER 04 FOLHAS INCOLOR 8MM, TEMPERADO, DIMENSÃO 2,20x1,20 -INSTALADO | C38: VIDRAÇARIA PARANA | D38: UN | E38: 1 | F38: 930 | G38: =F38*E38 -> 930
A39: COTAÇÃO 9 | B39: JANELA DE CORRER 04 FOLHAS INCOLOR 8MM, TEMPERADO, DIMENSÃO 2,50x1,20 -INSTALADO | D39: UN | G39: =(G40+G41+G42)/3 -> 1150.53
B40: =B39 -> JANELA DE CORRER 04 FOLHAS INCOLOR 8MM, TEMPERADO, DIMENSÃO 2,50x1,20 -INSTALADO | C40: BELLA CASA PERSIANAS E VIDRAÇARIA | D40: UN | E40: 1 | F40: 1075.85 | G40: =F40*E40 -> 1075.85
B41: =B40 -> JANELA DE CORRER 04 FOLHAS INCOLOR 8MM, TEMPERADO, DIMENSÃO 2,50x1,20 -INSTALADO | C41: SERRAGLASS | D41: UN | E41: 1 | F41: 1340.74 | G41: =F41*E41 -> 1340.74 | H41: =SUM(G40:G42)/3 -> 1150.53
B42: =B41 -> JANELA DE CORRER 04 FOLHAS INCOLOR 8MM, TEMPERADO, DIMENSÃO 2,50x1,20 -INSTALADO | C42: VIDRAÇARIA PARANA | D42: UN | E42: 1 | F42: 1035 | G42: =F42*E42 -> 1035
A43: COTAÇÃO 10 | B43: JANELA DE CORRER 04 FOLHAS INCOLOR 8MM, TEMPERADO, DIMENSÃO 2,70x1,50 -INSTALADO | D43: UN | G43: =(G44+G45+G46)/3 -> 1437.54
...
